BEGIN:VCALENDAR
VERSION:2.0
PRODID:-//Clare Walks Ltd. - ECPv5.1.4//NONSGML v1.0//EN
CALSCALE:GREGORIAN
METHOD:PUBLISH
X-WR-CALNAME:Clare Walks Ltd.
X-ORIGINAL-URL:https://clarewalks.ie
X-WR-CALDESC:Events for Clare Walks Ltd.
BEGIN:VTIMEZONE
TZID:UTC
BEGIN:STANDARD
TZOFFSETFROM:+0000
TZOFFSETTO:+0000
TZNAME:UTC
DTSTART:20240101T000000
END:STANDARD
END:VTIMEZONE
BEGIN:VEVENT
DTSTART;TZID=UTC:20241010T110000
DTEND;TZID=UTC:20241010T130000
DTSTAMP:20260419T161940
CREATED:20241003T174256Z
LAST-MODIFIED:20241003T174320Z
UID:1346-1728558000-1728565200@clarewalks.ie
SUMMARY:Guided Ramblers Walk - Whitegate
DESCRIPTION:Our next guided walk will take place next Thursday 10th October in Whitegate. \nWe will start at 11am from the Catholic Church in Whitegate\, EIRCODE: V94 DD70. \nThis loop is 7.5kms on quiet roads and is relatively flat throughout. \nIf you would like to come along\, please send a text or Whatsapp message – 086 358 6293 \nWalks are free with an optional donation which goes towards the future maintenance of the East Clare Way and the Mid Clare Way walking routes. \n\n\n	Related\n
URL:https://clarewalks.ie/event/guided-ramblers-walk-whitegate/
LOCATION:Whitegate\, Clare\, Ireland
CATEGORIES:Active Agers,East Clare Way,Guided event,Heritage,Ramblers,Walking
ATTACH;FMTTYPE=image/jpeg:https://clarewalks.ie/wp-content/uploads/2019/10/Whitegate.jpg
ORGANIZER;CN="Clare%20Walks%20Ltd.":MAILTO:info@clarewalks.ie
END:VEVENT
END:VCALENDAR